BEGIN:VCALENDAR
VERSION:2.0
PRODID:icalendar-ruby
CALSCALE:GREGORIAN
METHOD:PUBLISH
BEGIN:VEVENT
DTSTAMP:20260422T131514Z
UID:253-2759511@crestongracefellowship.org
DTSTART:20260501T180000Z
DTEND:20260502T220000Z
CLASS:PUBLIC
CREATED:20260421T120557
DESCRIPTION:Join us for our Second Annual Yard Sale and Pancake Breakfast\n
 2416 Cedar St.\, Creston BC\nStarts: May 1st noon to 4 PM\,  May 2nd 8 AM
  to 4 PM\nMay 2nd 9 AM Pancake Breakfast $5.00 Per Plate\nAll proceeds go 
 to our radio station 89.1 FM
LAST-MODIFIED:20260421T120557
LOCATION:2416 Cedar St. Creston\, BC V0B 1G5
SUMMARY:Second Annual GCF Yard Sale and Pancake Breakfast
URL;VALUE=URI:https://www.crestongracefellowship.org/events/second-annual-g
 cf-yard-sale-and-pancake-breakfast/2026-05-01
ATTACH;FILENAME=676283068_122127055527095435_6051242547619075489_n.jpg;FMTT
 YPE=image/jpeg:https://dq5pwpg1q8ru0.cloudfront.net/2026/04/21/18/05/57/3a
 87547b-f2da-48a0-ad82-8adf69e3f940/676283068_122127055527095435_6051242547
 619075489_n.jpg
END:VEVENT
END:VCALENDAR
